BEGIN:VCALENDAR
VERSION:2.0
PRODID:-//Müggelheimer Sport Club e. V. - ECPv6.11.2.1//NONSGML v1.0//EN
CALSCALE:GREGORIAN
METHOD:PUBLISH
X-WR-CALNAME:Müggelheimer Sport Club e. V.
X-ORIGINAL-URL:https://m-sc.berlin
X-WR-CALDESC:Veranstaltungen für Müggelheimer Sport Club e. V.
REFRESH-INTERVAL;VALUE=DURATION:PT1H
X-Robots-Tag:noindex
X-PUBLISHED-TTL:PT1H
BEGIN:VTIMEZONE
TZID:Europe/Berlin
BEGIN:DAYLIGHT
TZOFFSETFROM:+0100
TZOFFSETTO:+0200
TZNAME:CEST
DTSTART:20250330T010000
END:DAYLIGHT
BEGIN:STANDARD
TZOFFSETFROM:+0200
TZOFFSETTO:+0100
TZNAME:CET
DTSTART:20251026T010000
END:STANDARD
END:VTIMEZONE
BEGIN:VEVENT
DTSTART;TZID=Europe/Berlin:20250411T080000
DTEND;TZID=Europe/Berlin:20250413T170000
DTSTAMP:20260423T051040
CREATED:20250127T064445Z
LAST-MODIFIED:20250127T064445Z
UID:993-1744358400-1744563600@m-sc.berlin
SUMMARY:Ostertrainingslager beim Müggelheimer Sport Club
DESCRIPTION:Vom 11. April bis 13. April findet unser alljährliches Ostertrainingslager im Verein statt. Alle Informationen erhaltet Ihr zeitnah über das Orga-Team der Trainer!
URL:https://m-sc.berlin/event/ostertrainingslager-beim-mueggelheimer-sport-club/
CATEGORIES:Kalender
END:VEVENT
END:VCALENDAR