BEGIN:VCALENDAR
VERSION:2.0
PRODID:-//Müggelheimer Sport Club e. V. - ECPv6.11.2.1//NONSGML v1.0//EN
CALSCALE:GREGORIAN
METHOD:PUBLISH
X-ORIGINAL-URL:https://m-sc.berlin
X-WR-CALDESC:Veranstaltungen für Müggelheimer Sport Club e. V.
REFRESH-INTERVAL;VALUE=DURATION:PT1H
X-Robots-Tag:noindex
X-PUBLISHED-TTL:PT1H
BEGIN:VTIMEZONE
TZID:Europe/Berlin
BEGIN:DAYLIGHT
TZOFFSETFROM:+0100
TZOFFSETTO:+0200
TZNAME:CEST
DTSTART:20250330T010000
END:DAYLIGHT
BEGIN:STANDARD
TZOFFSETFROM:+0200
TZOFFSETTO:+0100
TZNAME:CET
DTSTART:20251026T010000
END:STANDARD
END:VTIMEZONE
BEGIN:VEVENT
DTSTART;TZID=Europe/Berlin:20250501T160000
DTEND;TZID=Europe/Berlin:20250504T180000
DTSTAMP:20260423T033829
CREATED:20250127T065320Z
LAST-MODIFIED:20250127T065320Z
UID:995-1746115200-1746381600@m-sc.berlin
SUMMARY:Große Brandenburger in Brandenburg an der Havel - Beetzsee
DESCRIPTION:Vom 2. bis 5. Mai finden die 33. Große Brandenburger Kanu-Rennsport Regatta in Brandenburg an der Havel statt. Hier ist eine Anreise bereits am 1. Mai erforderlich. Alle Informationen sowie Aufgabe der teilnehmenden Sportler und Sportlerinnen erfolgen zeitnah.
URL:https://m-sc.berlin/event/grosse-brandenburger-in-brandenburg-an-der-havel-beetzsee/
LOCATION:Brandenburg a.d. Havel
CATEGORIES:Kalender,Wettkämpfe
END:VEVENT
END:VCALENDAR