BEGIN:VCALENDAR
VERSION:2.0
PRODID:-//Müggelheimer Sport Club e. V. - ECPv6.11.2.1//NONSGML v1.0//EN
CALSCALE:GREGORIAN
METHOD:PUBLISH
X-WR-CALNAME:Müggelheimer Sport Club e. V.
X-ORIGINAL-URL:https://m-sc.berlin
X-WR-CALDESC:Veranstaltungen für Müggelheimer Sport Club e. V.
REFRESH-INTERVAL;VALUE=DURATION:PT1H
X-Robots-Tag:noindex
X-PUBLISHED-TTL:PT1H
BEGIN:VTIMEZONE
TZID:Europe/Berlin
BEGIN:DAYLIGHT
TZOFFSETFROM:+0100
TZOFFSETTO:+0200
TZNAME:CEST
DTSTART:20250330T010000
END:DAYLIGHT
BEGIN:STANDARD
TZOFFSETFROM:+0200
TZOFFSETTO:+0100
TZNAME:CET
DTSTART:20251026T010000
END:STANDARD
END:VTIMEZONE
BEGIN:VEVENT
DTSTART;TZID=Europe/Berlin:20250726T120000
DTEND;TZID=Europe/Berlin:20250727T120000
DTSTAMP:20260423T001353
CREATED:20250127T055852Z
LAST-MODIFIED:20250127T055852Z
UID:989-1753531200-1753617600@m-sc.berlin
SUMMARY:Vermietung Vereinsgelände / Bootshaus
DESCRIPTION:Das Bootshaus sowie das Vereinsgelände befinde sich am 25. Juli 2025 in der Vermietung.
URL:https://m-sc.berlin/event/vermietung-vereinsgelaende-bootshaus/
LOCATION:Vereinsgelände/Bootshaus
CATEGORIES:Kalender,Vermietung
END:VEVENT
END:VCALENDAR