BEGIN:VCALENDAR
VERSION:2.0
PRODID:-//Müggelheimer Sport Club e. V. - ECPv6.11.2.1//NONSGML v1.0//EN
CALSCALE:GREGORIAN
METHOD:PUBLISH
X-ORIGINAL-URL:https://m-sc.berlin
X-WR-CALDESC:Veranstaltungen für Müggelheimer Sport Club e. V.
REFRESH-INTERVAL;VALUE=DURATION:PT1H
X-Robots-Tag:noindex
X-PUBLISHED-TTL:PT1H
BEGIN:VTIMEZONE
TZID:Europe/Berlin
BEGIN:DAYLIGHT
TZOFFSETFROM:+0100
TZOFFSETTO:+0200
TZNAME:CEST
DTSTART:20250330T010000
END:DAYLIGHT
BEGIN:STANDARD
TZOFFSETFROM:+0200
TZOFFSETTO:+0100
TZNAME:CET
DTSTART:20251026T010000
END:STANDARD
END:VTIMEZONE
BEGIN:VEVENT
DTSTART;TZID=Europe/Berlin:20250602T090000
DTEND;TZID=Europe/Berlin:20250602T150000
DTSTAMP:20260423T001920
CREATED:20250108T092833Z
LAST-MODIFIED:20250108T092833Z
UID:985-1748854800-1748876400@m-sc.berlin
SUMMARY:Vermietung Bootshaus
DESCRIPTION:Das Bootshaus befindet sich am 2. Juni von 9:00 bis 15:00 Uhr in der Vermietung.
URL:https://m-sc.berlin/event/vermietung-bootshaus-8/
LOCATION:Bootshaus
CATEGORIES:Kalender,Vermietung
END:VEVENT
BEGIN:VEVENT
DTSTART;TZID=Europe/Berlin:20250614T120000
DTEND;TZID=Europe/Berlin:20250614T120000
DTSTAMP:20260423T001920
CREATED:20240716T064908Z
LAST-MODIFIED:20240716T064908Z
UID:877-1749902400-1749902400@m-sc.berlin
SUMMARY:Vermietung Bootshaus / Vereinsgelände
DESCRIPTION:Das Bootshaus sowie das Vereinsgelände befinden sich am 14. Juni ganztägig in der Vermietung.
URL:https://m-sc.berlin/event/vermietung-bootshaus-vereinsgelaende-19/
LOCATION:Vereinsgelände/Bootshaus
CATEGORIES:Kalender,Vermietung
END:VEVENT
BEGIN:VEVENT
DTSTART;TZID=Europe/Berlin:20250630T080000
DTEND;TZID=Europe/Berlin:20250701T170000
DTSTAMP:20260423T001920
CREATED:20250604T112042Z
LAST-MODIFIED:20250604T112042Z
UID:1064-1751270400-1751389200@m-sc.berlin
SUMMARY:Vermietung Bootshaus / Vereinsgelände
DESCRIPTION:Das Bootshaus sowie das Vereinsgelände befinden sich vom 30. Juni bis einschließlich 1. Juli in der Vermietung.
URL:https://m-sc.berlin/event/vermietung-bootshaus-vereinsgelaende-23/
LOCATION:Vereinsgelände/Bootshaus
CATEGORIES:Kalender,Vermietung
END:VEVENT
END:VCALENDAR