BEGIN:VCALENDAR
VERSION:2.0
PRODID:-//Müggelheimer Sport Club e. V. - ECPv6.11.2.1//NONSGML v1.0//EN
CALSCALE:GREGORIAN
METHOD:PUBLISH
X-WR-CALNAME:Müggelheimer Sport Club e. V.
X-ORIGINAL-URL:https://m-sc.berlin
X-WR-CALDESC:Veranstaltungen für Müggelheimer Sport Club e. V.
REFRESH-INTERVAL;VALUE=DURATION:PT1H
X-Robots-Tag:noindex
X-PUBLISHED-TTL:PT1H
BEGIN:VTIMEZONE
TZID:Europe/Berlin
BEGIN:DAYLIGHT
TZOFFSETFROM:+0100
TZOFFSETTO:+0200
TZNAME:CEST
DTSTART:20250330T010000
END:DAYLIGHT
BEGIN:STANDARD
TZOFFSETFROM:+0200
TZOFFSETTO:+0100
TZNAME:CET
DTSTART:20251026T010000
END:STANDARD
END:VTIMEZONE
BEGIN:VEVENT
DTSTART;TZID=Europe/Berlin:20250906T083000
DTEND;TZID=Europe/Berlin:20250906T203000
DTSTAMP:20260422T192843
CREATED:20250425T125154Z
LAST-MODIFIED:20250526T151102Z
UID:1016-1757147400-1757190600@m-sc.berlin
SUMMARY:Kücken-Regatta und Veteranentreffen der Kanuten beim Müggelheimer Sport Club
DESCRIPTION:Am 6. September findet auf dem Vereinsgelände sowie auf der Großen Krampe wieder die beliebte Kücken-Regatta statt – Weitere Informationen hierzu folgen kurzfristig.
URL:https://m-sc.berlin/event/kuecken-regatta-beim-mueggelheimer-sport-club/
LOCATION:Vereinsgelände/Bootshaus
CATEGORIES:Kalender,Veranstaltungen,Wettkämpfe
END:VEVENT
BEGIN:VEVENT
DTSTART;TZID=Europe/Berlin:20250913T120000
DTEND;TZID=Europe/Berlin:20250914T120000
DTSTAMP:20260422T192843
CREATED:20240916T173440Z
LAST-MODIFIED:20240916T173440Z
UID:929-1757764800-1757851200@m-sc.berlin
SUMMARY:Vermietung Bootshaus / Vereinsgelände
DESCRIPTION:Das Bootshaus sowie das Vereinsgelände befinden sich am 13. September 2025 in der Vermietung
URL:https://m-sc.berlin/event/vermietung-bootshaus-vereinsgelaende-20/
LOCATION:Vereinsgelände/Bootshaus
CATEGORIES:Kalender,Veranstaltungen,Vermietung
END:VEVENT
END:VCALENDAR